BEGIN:VCALENDAR
VERSION:2.0
PRODID:-//wp-events-plugin.com//7.2.3.1//EN
TZID:Europe/London
X-WR-TIMEZONE:Europe/London
BEGIN:VEVENT
UID:588@contactdance.co.uk
DTSTART;TZID=Europe/London:20120325T173000
DTEND;TZID=Europe/London:20120325T183000
DTSTAMP:20120117T211928Z
URL:https://contactdance.co.uk/events/warmup-class-2012-03-25/
SUMMARY:Warmup Class - DMAC\, (4th Floor) Hamilton House - 25 Mar 12 17:30
DESCRIPTION:Pre-Jam Warmup Class\nBeginner friendly class 5.30 to 6.30 foll
 owed by the Jam from 6.45pm to 8.30pm.\n\nDancers can come just for the cl
 ass for £5\, or stay for the class and jam for just £7.\nSpringing into 
 Action\nIn the warm up I hope to facilitate a sense of our sap rising in t
 he body\, the energy of the new life pushing up through the earth.\n\nMovi
 ng from slumber into the energy of spring\, by exploring our ligaments and
  muscles\, waking them up ready to SPRING\, BOUNCE &amp\; REBOUND.\n\nK'Lo
ATTACH;FMTTYPE=image/jpeg:https://contactdance.co.uk/wp-content/uploads/lo
 cations-pics/event-398.jpg
CATEGORIES:CI Class
LOCATION:DMAC\, (4th Floor) Hamilton House\, 80 Stokes Croft\, Bristol\, BS
 1 3QY\, United Kingdom
GEO:51.4629;-2.58991
X-APPLE-STRUCTURED-LOCATION;VALUE=URI;X-ADDRESS=80 Stokes Croft\, Bristol\,
  BS1 3QY\, United Kingdom;X-APPLE-RADIUS=100;X-TITLE=DMAC\, (4th Floor) Ha
 milton House:geo:51.4629,-2.58991
END:VEVENT
BEGIN:VTIMEZONE
TZID:Europe/London
X-LIC-LOCATION:Europe/London
BEGIN:DAYLIGHT
DTSTART:20120325T020000
TZOFFSETFROM:+0000
TZOFFSETTO:+0100
TZNAME:BST
END:DAYLIGHT
END:VTIMEZONE
END:VCALENDAR