BEGIN:VCALENDAR
VERSION:2.0
PRODID:-//wp-events-plugin.com//7.2.3.1//EN
TZID:Europe/London
X-WR-TIMEZONE:Europe/London
BEGIN:VEVENT
UID:943@contactdance.co.uk
DTSTART;TZID=Europe/London:20120916T173000
DTEND;TZID=Europe/London:20120916T183000
DTSTAMP:20120912T182618Z
URL:https://contactdance.co.uk/events/warmup-class-4-2012-09-16/
SUMMARY:Sunday Warmup Class - DMAC\, (4th Floor) Hamilton House - 16 Sep 12
  17:30
DESCRIPTION:Beginner friendly pre-jam warmup class 5.30-6.30pm followed by 
 the jam 6.45-8.30pm. Dancers can come just for the class\, £5\, or stay f
 or the jam\, £7.\n\nFor more information feel free to contact the teacher
 /facilitator or info@contactdance.co.uk. We send out regular emails of cla
 ss descriptions\, to get these\, please sign-up to our mailing list.\nClas
 s Description\nTouch&amp\;Play\nContact improvisation as a game of authent
 ic connections\n\nD.J. Hayes is a Medical Doctor\, public health scientist
 \, eco-anarchist and practical idealist who has been playing\, dancing\, m
 editating and conversing CI for over a decade and has been actively sharin
 g his curiosity and knowledge for the past five years. He is the founder o
 f the Touch&amp\;Play Project\, which explores the edges of Contact Improv
 isation by inviting our alchemical bodies (emotions\, fears\, fantasies\, 
 thoughts\, sexuality) into the dance. He engages with Contact Improv as a 
 practice and tool to create authentic connections to the self and the othe
 r. He was further one of the core organizers of the 1st Spanish Contact Te
 achers and Organizers Meeting (EMOCIE) and the first ever ECITE held in Sp
 ain. His current interest is to open-up ‘classical’ CI and to take the
  form out of the Dance world and into the realms of play\, meditation\, co
 mmunication\, BDSM\, healing\, education\, sexuality and more through rigo
 rous artistic and academic research.
ATTACH;FMTTYPE=image/jpeg:https://contactdance.co.uk/wp-content/uploads/lo
 cations-pics/event-211-e1416260660609.jpg
CATEGORIES:CI Class
LOCATION:DMAC\, (4th Floor) Hamilton House\, 80 Stokes Croft\, Bristol\, BS
 1 3QY\, United Kingdom
GEO:51.4629;-2.58991
X-APPLE-STRUCTURED-LOCATION;VALUE=URI;X-ADDRESS=80 Stokes Croft\, Bristol\,
  BS1 3QY\, United Kingdom;X-APPLE-RADIUS=100;X-TITLE=DMAC\, (4th Floor) Ha
 milton House:geo:51.4629,-2.58991
END:VEVENT
BEGIN:VTIMEZONE
TZID:Europe/London
X-LIC-LOCATION:Europe/London
BEGIN:DAYLIGHT
DTSTART:20120325T020000
TZOFFSETFROM:+0000
TZOFFSETTO:+0100
TZNAME:BST
END:DAYLIGHT
END:VTIMEZONE
END:VCALENDAR