BEGIN:VCALENDAR
VERSION:2.0
PRODID:-//wp-events-plugin.com//7.2.3.1//EN
TZID:Europe/London
X-WR-TIMEZONE:Europe/London
BEGIN:VEVENT
UID:956@contactdance.co.uk
DTSTART;TZID=Europe/London:20121216T173000
DTEND;TZID=Europe/London:20121216T183000
DTSTAMP:20121212T132005Z
URL:https://contactdance.co.uk/events/warmup-class-4-2012-12-16/
SUMMARY:Sunday Warmup Class - DMAC\, (4th Floor) Hamilton House - 16 Dec 12
  17:30
DESCRIPTION:Beginner friendly pre-jam warmup class 5.30-6.30pm followed by 
 the jam 6.45-8.30pm. Dancers can come just for the class\, £5\, or stay f
 or the jam\, £7.\n\nFor more information feel free to contact the teacher
 /facilitator or info@contactdance.co.uk. We send out regular emails of cla
 ss descriptions\, to get these\, please sign-up to our mailing list.\nClas
 s Description\nBreathing from the Heart\n\nBringing awareness to our breat
 hing \, making contact to the area around our chest we will explore the mo
 vements that originates from this connection.\n\nExploring how breath can 
 free the mobility of  our arms and shoulders\, we will  expand the aware
 ness to the whole body\, finding how our weight can  be supported   by 
 the contact with the ground and with other bodies\, looking to connect in 
 a dance generated by the rhythm of our hearts.\n\n&nbsp\;
ATTACH;FMTTYPE=image/jpeg:https://contactdance.co.uk/wp-content/uploads/lo
 cations-pics/event-211-e1416260660609.jpg
CATEGORIES:CI Class
LOCATION:DMAC\, (4th Floor) Hamilton House\, 80 Stokes Croft\, Bristol\, BS
 1 3QY\, United Kingdom
GEO:51.4629;-2.58991
X-APPLE-STRUCTURED-LOCATION;VALUE=URI;X-ADDRESS=80 Stokes Croft\, Bristol\,
  BS1 3QY\, United Kingdom;X-APPLE-RADIUS=100;X-TITLE=DMAC\, (4th Floor) Ha
 milton House:geo:51.4629,-2.58991
END:VEVENT
BEGIN:VTIMEZONE
TZID:Europe/London
X-LIC-LOCATION:Europe/London
BEGIN:STANDARD
DTSTART:20121028T010000
TZOFFSETFROM:+0100
TZOFFSETTO:+0000
TZNAME:GMT
END:STANDARD
END:VTIMEZONE
END:VCALENDAR