BEGIN:VCALENDAR
VERSION:2.0
PRODID:-//wp-events-plugin.com//7.2.3.1//EN
TZID:Europe/London
X-WR-TIMEZONE:Europe/London
BEGIN:VEVENT
UID:1349@contactdance.co.uk
DTSTART;TZID=Europe/London:20131206T180000
DTEND;TZID=Europe/London:20131208T180000
DTSTAMP:20130905T101617Z
URL:https://contactdance.co.uk/events/water-dancer/
SUMMARY:Water Dancer -  - 6 Dec 13 18:00
DESCRIPTION:\n\nwith Daniel Werner\nWhen I float in water\, my body remembe
 rs. What does it remember you might ask.  It remembers what it is like 
 to be held utterly. All my years of holding it together begin to relax\, 
 the muscles around my spine soften and expand\, my spine starts to move in
  ways that it has not done since I was a 2 year old. Truly I have a snake
  spine\, joyful early movement patterns and qualities\, become available 
 to me.\n\nTogether we will spend one full day in the warm water unfolding 
 unwrapping opening. Dancing in water will open new dimensions and possibi
 lities that the will guide and nourish our bodies. Then we will return to
  our dance on the land ground this new movement potential into our land d
 ancing body.\n&nbsp\;\n\n\nBookings\n\nTo Book your Place:\n\nOr For More 
 Information\nTel: 07966498596\nemail: embodiedpresence@gmail.com\n\n\n
ATTACH;FMTTYPE=image/jpeg:https://contactdance.co.uk/wp-content/uploads/20
 13/04/Daniel-Werner-e1378376086725.jpg
CATEGORIES:CI Workshop
END:VEVENT
BEGIN:VTIMEZONE
TZID:Europe/London
X-LIC-LOCATION:Europe/London
BEGIN:STANDARD
DTSTART:20131027T010000
TZOFFSETFROM:+0100
TZOFFSETTO:+0000
TZNAME:GMT
END:STANDARD
END:VTIMEZONE
END:VCALENDAR