BEGIN:VCALENDAR
VERSION:2.0
PRODID:-//wp-events-plugin.com//7.2.3.1//EN
TZID:Europe/London
X-WR-TIMEZONE:Europe/London
BEGIN:VEVENT
UID:1842@contactdance.co.uk
DTSTART;TZID=Europe/London:20150708T191500
DTEND;TZID=Europe/London:20150708T211500
DTSTAMP:20150608T204516Z
URL:https://contactdance.co.uk/events/wednesday-ci-classes-ongoing-2015-07
 -08/
SUMMARY:Wednesday CI Classes (ongoing) - The Willow Studio - 8 Jul 15 19:15
DESCRIPTION:Back again for a 6 week series: From floor to flying\n\nTaught 
 by Alistair Edmunds &amp\; Saskia Chaplin\n\nAlistair and Saskia will shar
 e the teaching of this course\, alternating sessions. We aim to offer expl
 orations of the fundamentals of CI\, enabling you to develop core skills t
 o support fluidity and safety\, whilst opening up to new possibilities in 
 your movement.\n\nThe course is suitable for beginners as well as those ex
 perienced in the form. You are welcome to join for the whole course\, for 
 which there is a discount\, or to attend on a drop in basis.\n- : -\n  Con
 tact Improvisation (CI) is based on the physical exploration of how the bo
 dy moves through its own intelligence and how two or more bodies in contac
 t with each other can move together\, a dance that fine tunes your senses 
 and wakes up your ability to listen and respond to what is happening in th
 e moment. Sometimes wild and athletic\, sometimes quiet and meditative\, i
 t is a form open to all bodies and enquiring minds.\n- : -\nPracticalities
 \nBring yourself as you are\, loose comfortable clothing\, kneepads if you
  have them\, a curiosity to explore and an openness to be inspired from ne
 w ways in. It also helps to have a notebook to support your learning.\n\nC
 ontact: Ali 07805 762998 alistair@contactdance.co.uk or Saskia 07904 12164
 6 saskia@contactdance.co.uk
ATTACH;FMTTYPE=image/jpeg:https://contactdance.co.uk/wp-content/uploads/20
 15/06/sasali1.jpg
CATEGORIES:CI Class
LOCATION:The Willow Studio\, St. Werburghs Primary School\, James Street\, 
 Bristol\, BS2 9US\, United Kingdom
GEO:51.4704;-2.57417
X-APPLE-STRUCTURED-LOCATION;VALUE=URI;X-ADDRESS=St. Werburghs Primary Schoo
 l\, James Street\, Bristol\, BS2 9US\, United Kingdom;X-APPLE-RADIUS=100;X
 -TITLE=The Willow Studio:geo:51.4704,-2.57417
END:VEVENT
BEGIN:VTIMEZONE
TZID:Europe/London
X-LIC-LOCATION:Europe/London
BEGIN:DAYLIGHT
DTSTART:20150329T020000
TZOFFSETFROM:+0000
TZOFFSETTO:+0100
TZNAME:BST
END:DAYLIGHT
END:VTIMEZONE
END:VCALENDAR