BEGIN:VCALENDAR
VERSION:2.0
PRODID:-//wp-events-plugin.com//7.2.3.1//EN
TZID:Europe/London
X-WR-TIMEZONE:Europe/London
BEGIN:VEVENT
UID:2659@contactdance.co.uk
DTSTART;TZID=Europe/London:20231111T093000
DTEND;TZID=Europe/London:20231112T170000
DTSTAMP:20230906T110112Z
URL:https://contactdance.co.uk/events/weekend-workshop-with-harriet-robert
 s/
SUMMARY:Conversational Contact Improvisation - St. Michael's Parish Hall - 
 11 Nov 23 09:30
DESCRIPTION:\n\nCONVERSATIONAL CONTACT (the proposal)\n\n|LANGUAGE| Useful 
 and clear physical tools to support your solo dancing\, engagement with th
 e floor and contact with other movers. This ‘language’ will include mo
 vement patterning\; rolling\, spiralling\, supporting\; helping you to lan
 d\, lift and jam confidently.\n\n|TONE| Encouraging efficiency and ease\, 
 knowing when to employ strength and softness.\n\n|MONOLOGUE| Investment in
  soloing\; for you to feel confident to explore your curiosity before and 
 while dancing in contact\; we will integrate this awareness through all th
 at we do.\n\n|DIALOGUE| A relational practice\, we will tune our listening
  skills when in partner dances as well as larger constellations. We will r
 esearch how to let the dance unfold\, how to pose questions through the da
 nce and how to embrace the mutuality of each engagement.\n\n| SCHEDULE |\n
 Sat 11 Nov\n9.30 am - 5 pm\n*1 h 15 m lunch break\nSun 12 Nov\n9.30 am - 5
  pm\n*1 h 15 m lunch break\n\n| REGISTRATION |\nEarly bird £90 until 13th
  Oct\nFull Price £110.\nTo register please email harrietroberts@outlook.c
 om\nor message +447708252649 on Whatsapp\nI ask that you pay the whole pri
 ce or 50% deposit to secure your place\, the other 50% can be paid up unti
 l the workshop *.\nIf the financial aspect is stopping you from dancing pl
 ease contact us and we will try to find an arrangement.\nPlaces are limite
 d to 24 participants\n* Once you register\, due to organizational reasons\
 , the deposit is not refundable.\n\n| LOCATION |\nWe have the lovely St Mi
 chael's Parish Hall\, with its large\, bright studio and a little kitchen 
 to warm your winter soups.\nWebsite: https://www.stmichaelsparishhall.co.u
 k\n\n| ABOUT ME |\nHarriet is a dedicated practitioner of contact Improvis
 ation\, she has travelled extensively in search of hubs\, homes and bodies
  researching CI. She has supported and taught within a variety of residenc
 ies dedicated to the form as well as festival\, workshop\, and university 
 settings. Trained as a contemporary dancer\, Harriet divides her time betw
 een dance facilitation\, performance\, and hands-on therapy. She is traine
 d as a doula and has spent the last years dedicated to the education of th
 e reproductive body. For artistic projects see here: Harriet Roberts (vime
 o.com)\nPhoto: Alexander Dodgson
ATTACH;FMTTYPE=image/jpeg:https://contactdance.co.uk/wp-content/uploads/20
 23/08/conversational.jpg
CATEGORIES:CI Workshop
LOCATION:St. Michael's Parish Hall\, Park Ln\, Bristol BS2 8BE\, Bristol\, 
 BS2 8BE\, United Kingdom
GEO:51.457;-2.59932
X-APPLE-STRUCTURED-LOCATION;VALUE=URI;X-ADDRESS=Park Ln\, Bristol BS2 8BE\,
  Bristol\, BS2 8BE\, United Kingdom;X-APPLE-RADIUS=100;X-TITLE=St. Michael
 's Parish Hall:geo:51.457,-2.59932
END:VEVENT
BEGIN:VTIMEZONE
TZID:Europe/London
X-LIC-LOCATION:Europe/London
BEGIN:STANDARD
DTSTART:20231029T010000
TZOFFSETFROM:+0100
TZOFFSETTO:+0000
TZNAME:GMT
END:STANDARD
END:VTIMEZONE
END:VCALENDAR