BEGIN:VCALENDAR
VERSION:2.0
PRODID:-//wp-events-plugin.com//7.2.3.1//EN
TZID:Europe/London
X-WR-TIMEZONE:Europe/London
BEGIN:VEVENT
UID:2370@contactdance.co.uk
DTSTART;TZID=Europe/London:20181214T190000
DTEND;TZID=Europe/London:20181214T210000
DTSTAMP:20181012T172318Z
URL:https://contactdance.co.uk/events/weekly-contact-improvisation-dance-i
 mprovisation-class-2018-12-14/
SUMMARY:Weekly Contact Improvisation/ Dance Improvisation class - The Exerc
 ise Club - 14 Dec 18 19:00
DESCRIPTION:\n\nA new Bristol location for practicing Contact Improvisation
  Dance form on an alternative evening of the week!\n\nAn intermediate leve
 l class suited for movers experienced in Contact Improvisation and/or Danc
 e Improvisation format who wish to expand their skill set and create impro
 vised work.\nDisclaimer: facilitator will assume that participants have a 
 basic understanding of the rolling point of contact\, static support\, wei
 ght sharing\, proprioception\, kinesthetic sense\, physical listening\, ch
 anging levels/planes of movement dynamic and autonomy in a shared dance. T
 he first class of the series will be dedicated to refreshing these movemen
 t principles and a great opportunity to identify any gaps or confirm own l
 evel of experience.\n\nClasses are aimed at supporting the development of 
 the above-mentioned skills (horizontal learning) with an emphasis on enhan
 cing one's skill set in a safe\, supportive and focused way (vertical lear
 ning). Efficiency\, comfort and readiness are some of the qualities that w
 e will be looking to establish as we practice skills of:\nbeing able to or
 ganise our own (and our partner's) structure in a dynamic space effortless
 ly\, lifts - lifting and being lifted as well as falling out of the lift o
 nto a safe landing gear\, ability to self - release tension and use it as 
 the vehicle for movement\, upside down orientation\, articulation of the b
 ackspace in falls and backward pathways\, ability to stay off balance and 
 capacity for ongoing continuation of the movement\, amongst many other.\n\
 nAs for the dance improvisation\, it's essential participants are willing 
 to engage in a variety of dance scores and willing to recognise and break 
 the habits of movement\, undo social conditioning\, and free-play. Ability
  to use space for the spontaneous emergence as well as intentional composi
 ng\, integrating of the inside with the outside and creating from moment t
 o moment will all be the non-sequential themes in practising to improvise 
 movement.\n\nThese 9 classes are design to explore all of the material des
 cribed and any of the other intermediate skills not covered here as well a
 s participant's wishes and syllabus may shift depending on what new or old
  horizons will require more attention. There is a real possibility that t
 he series will continue and be built on by a larger pool of experienced CI
  facilitators based in Bristol.\nIt's recommended that keen movers get on 
 board now and enjoy what is to come in near future!
CATEGORIES:CI Class
LOCATION:The Exercise Club\, 213 Whiteladies Road\, Bristol\, BS8 2XS\, Uni
 ted Kingdom
GEO:51.4700637;-2.6144398000000137
X-APPLE-STRUCTURED-LOCATION;VALUE=URI;X-ADDRESS=213 Whiteladies Road\, Bris
 tol\, BS8 2XS\, United Kingdom;X-APPLE-RADIUS=100;X-TITLE=The Exercise Clu
 b:geo:51.4700637,-2.6144398000000137
END:VEVENT
BEGIN:VTIMEZONE
TZID:Europe/London
X-LIC-LOCATION:Europe/London
BEGIN:STANDARD
DTSTART:20181028T010000
TZOFFSETFROM:+0100
TZOFFSETTO:+0000
TZNAME:GMT
END:STANDARD
END:VTIMEZONE
END:VCALENDAR