BEGIN:VCALENDAR
VERSION:2.0
PRODID:-//wp-events-plugin.com//7.2.3.1//EN
TZID:Europe/London
X-WR-TIMEZONE:Europe/London
BEGIN:VEVENT
UID:2909@contactdance.co.uk
DTSTART;TZID=Europe/London:20251229T170000
DTEND;TZID=Europe/London:20251229T210000
DTSTAMP:20251205T184141Z
URL:https://contactdance.co.uk/events/winter-ci-jam-and-shared-meal/
SUMMARY:Winter CI jam and shared meal - 63rd Bristol Scouts Hut - 29 Dec 25
  17:00
DESCRIPTION:\n\n\n\n\nMidwinter jam with foodshare!\nJoin us for an evening
  of Contact Improvisation\, hosted by Bristol CI. The session will be a ja
 m only space\, open to all levels of\nexperience.\n\nBring food to share a
 nd eat together afterwards - there is a kitchen where food can be heated u
 p.\n\nSpace Opens at: 5:00pm for personal warm up.\nOpening circle at 5.30
 \nFacilitated warm-up from 5.45 to 6.15\nJam : 6.15pm to 7.45pm\nFoodshare
  7.45 to 8.45 then finish by 9pm.\n\nPrice: £5\, £8 or £10 - choose wha
 t you feel able to pay.\n\nAny queries email info@contactdance.co.uk\nFor 
 more info on Bristol CI and Contact Improvisation. See https://contactdan
 ce.co.uk/\n\nLocation: Scout Hut 6388\, St. Bartholomews Rd\, St Andrew's\
 , Bristol BS7 9BJ\n\nNote: The area is residential\, so we kindly ask atte
 ndees to park/arrive/leave quietly and be respectful of the neighbours.\n\
 n\n\nLocation\nScout Hut 6388\, St. Bartholomews Rd\, St Andrews\, Bristol
  BS7 9BJ\, BS7 9BJ\n\nTickets\n\nhttps://www.tickettailor.com/events/brist
 olcontactimprovisationdance/1977440\n\n
ATTACH;FMTTYPE=image/jpeg:https://contactdance.co.uk/wp-content/uploads/20
 25/12/feet.jpg
CATEGORIES:CI Jam
LOCATION:63rd Bristol Scouts Hut\, St Bartholomews Road\, St Andrews\, Bris
 tol\, BS7 9BJ\, United Kingdom
X-APPLE-STRUCTURED-LOCATION;VALUE=URI;X-ADDRESS=St Bartholomews Road\, St A
 ndrews\, Bristol\, BS7 9BJ\, United Kingdom;X-APPLE-RADIUS=100;X-TITLE=63r
 d Bristol Scouts Hut:geo:0,0
END:VEVENT
BEGIN:VTIMEZONE
TZID:Europe/London
X-LIC-LOCATION:Europe/London
BEGIN:STANDARD
DTSTART:20251026T010000
TZOFFSETFROM:+0100
TZOFFSETTO:+0000
TZNAME:GMT
END:STANDARD
END:VTIMEZONE
END:VCALENDAR