BEGIN:VCALENDAR
VERSION:2.0
PRODID:-//wp-events-plugin.com//7.2.3.1//EN
TZID:Europe/London
X-WR-TIMEZONE:Europe/London
BEGIN:VEVENT
UID:2790@contactdance.co.uk
DTSTART;TZID=Europe/London:20241128T170000
DTEND;TZID=Europe/London:20241202T120000
DTSTAMP:20241015T213151Z
URL:https://contactdance.co.uk/events/winter-warmer-festival/
SUMMARY:Winter Warmer Festival - Nettlecombe Court - 28 Nov 24 17:00
DESCRIPTION:28th November - 2nd December\n17:00 - 12:00\nNettlecombe Court\
 ,The Leonard Wills Field Centre\, Williton\, Taunton\, TA4 4HT\n\nWe are v
 ery excited to bring you the Winter Contact Improvisation Festival 2024!\n
 \nBUY TICKETS HERE\nhttps://dandelion.events/e/festival2024\n\nAfter a suc
 cessful year of running Jam Weekends and a CI space at the Buddhafield Fes
 tival in 2023\, SOMA SPACE will bring you a full 4 days Contact Improvisat
 ion Festival. Suitable for all levels of experience.\nWe are committed to 
 deepening and celebrating the practice of contact improvisation in the UK.
  We are creating more spaces and events to gather\, dance\, learn\, and pl
 ay in. This festival will be jam-packed with classes from internationally 
 renowned teachers and jam spaces in a beautiful location and historical bu
 ilding based in Somerset.\nThis CI festival will be the perfect winter bre
 ak to gather and nourish our bodies and souls in the community.\n\nWhat's 
 On Offer\n- Classes and intensive workshops from internationally renowned 
 CI teachers\n- Sleeping accommodation\, in shared rooms with en suite bath
 rooms.\n- Local\, organic* meals\, prepared with love from our amazing Che
 f Djmila Home (feastsdonegood.com)\n- Sauna\n- Morning Yoga and Singing\n-
  Being part of a vibrant and loving CI community\n\nIntensive Teachers\nHu
 gh Stanier\, Rick Nodine\, Zoe Solomons\n\nAfternoon Teachers\nMark Rietem
 a\, Benn Julian\, Laura Doehler\, Manuela Sarcone\n\nFor more details and 
 schedule please follow the link to the SOMA SPACE website: www.somaspaceci
 .co.uk\n\nCost\nSupported £360\nStandard £390\nSupporter £420\nTicket L
 ink: https://dandelion.events/e/festival2024\n\nContact Us Via Email:\nsom
 aspaceci@gmail.com
ATTACH;FMTTYPE=image/jpeg:https://contactdance.co.uk/wp-content/uploads/20
 24/10/soma.png
CATEGORIES:CI Festival
LOCATION:Nettlecombe Court\, The Leonard Wills Field Centre\,  Williton\, T
 aunton\, TA4 4HT\, United Kingdom
X-APPLE-STRUCTURED-LOCATION;VALUE=URI;X-ADDRESS=The Leonard Wills Field Cen
 tre\,  Williton\, Taunton\, TA4 4HT\, United Kingdom;X-APPLE-RADIUS=100;X-
 TITLE=Nettlecombe Court:geo:0,0
END:VEVENT
BEGIN:VTIMEZONE
TZID:Europe/London
X-LIC-LOCATION:Europe/London
BEGIN:STANDARD
DTSTART:20241027T010000
TZOFFSETFROM:+0100
TZOFFSETTO:+0000
TZNAME:GMT
END:STANDARD
END:VTIMEZONE
END:VCALENDAR